BEGIN:VCALENDAR
VERSION:2.0
PRODID:-//The Charles Causley Trust - ECPv6.15.3//NONSGML v1.0//EN
CALSCALE:GREGORIAN
METHOD:PUBLISH
X-ORIGINAL-URL:https://causleytrust.org
X-WR-CALDESC:Events for The Charles Causley Trust
REFRESH-INTERVAL;VALUE=DURATION:PT1H
X-Robots-Tag:noindex
X-PUBLISHED-TTL:PT1H
BEGIN:VTIMEZONE
TZID:Europe/London
BEGIN:DAYLIGHT
TZOFFSETFROM:+0000
TZOFFSETTO:+0100
TZNAME:BST
DTSTART:20230326T010000
END:DAYLIGHT
BEGIN:STANDARD
TZOFFSETFROM:+0100
TZOFFSETTO:+0000
TZNAME:GMT
DTSTART:20231029T010000
END:STANDARD
END:VTIMEZONE
BEGIN:VEVENT
DTSTART;TZID=Europe/London:20230607T190000
DTEND;TZID=Europe/London:20230607T210000
DTSTAMP:20260421T125646
CREATED:20230524T140715Z
LAST-MODIFIED:20230524T140715Z
UID:5605-1686164400-1686171600@causleytrust.org
SUMMARY:Creative Writing Evening with Penelope Shuttle and David Devanny
DESCRIPTION:This event will be divided into two short workshops\, both an hour long. \nPart 1 with Penelope Shuttle: Writing a Letter to the God of the Sea \nIn this workshop hour we will read and discuss three poems by Charles Causley and then write from prompts drawn from these compelling poems. I invite participants to extend their imaginative practice via the portal of Charles Causley’s profound and accessible writing.  This will be an enjoyable and affirming workshop\, focussing on the pleasure and excitement of expression through poetry. \nPart 2 with David Devanny: Topographies of Poetry: From the Land to the Sea\nCharles Causley’s poetry is both rooted and unrooting\, navigating layers of meaning in both real\, spatial and mythic geographies\, in land and over the seas. This workshop hour uses Charles Causley’s words and different types of topographic maps to inspire new poetic mythologies. \nWednesday 7th June\n7-9pm\nTicket: £20 \nThis event is a fundraiser for the Causley Trust. We greatly appreciate any support you can give. 
URL:https://causleytrust.org/event/creative-writing-evening-with-penelope-shuttle-and-david-devanny/
ATTACH;FMTTYPE=image/png:https://causleytrust.org/wp-content/uploads/2023/05/1.png
END:VEVENT
BEGIN:VEVENT
DTSTART;TZID=Europe/London:20230628T180000
DTEND;TZID=Europe/London:20230628T200000
DTSTAMP:20260421T125646
CREATED:20230614T123848Z
LAST-MODIFIED:20230614T142742Z
UID:5647-1687975200-1687982400@causleytrust.org
SUMMARY:Poetry and Open Mic Evening with Vera Yuen
DESCRIPTION:Join us at Launceston Library on Wednesday 28 June from 6-8 pm for a Poetry and open mic evening and meet the Charles Causley Trust’s 2022 International Poetry Competition winner\, Vera Yuen\, who will be reading some of her work. Entry is free and refreshments and snacks will be provided. There will be a mixture of poems and music – join us\, play an instrument or sing.  \n You can read Vera’s winning poem here.
URL:https://causleytrust.org/event/poetry-and-open-mic-evening-with-vera-yuen/
LOCATION:Launceston Library\, 1 Bounsalls Ln\, Launceston\, Cornwall\, PL15 9AB\, United Kingdom
ATTACH;FMTTYPE=image/png:https://causleytrust.org/wp-content/uploads/2023/06/Untitled-design-5.png
END:VEVENT
BEGIN:VEVENT
DTSTART;TZID=Europe/London:20230630T100000
DTEND;TZID=Europe/London:20230702T170000
DTSTAMP:20260421T125646
CREATED:20220510T083624Z
LAST-MODIFIED:20230510T135717Z
UID:4805-1688119200-1688317200@causleytrust.org
SUMMARY:2023 Commemorative Festival Weekend
DESCRIPTION:We are thrilled to announce the 2023 Causley Trust Commemorative Weekend\, which will take place from the 30 June – 2nd July. Join us for an evening dedicated to Charles Causley and his legacy\, creative pop up spaces with writers\, artists and creatives\, workshops and more …\n*Please note\, this programme is subject to funding and may condense or expand \nWe will be hosting a variety of free\, community activity in Launceston town centre venues\, in addition to ticketed workshops and walks. For more information\, click here.
URL:https://causleytrust.org/event/2023-causley-festival-of-arts-and-literature/
ATTACH;FMTTYPE=image/png:https://causleytrust.org/wp-content/uploads/2023/04/Death-anniversary-Twitter-Post-3.png
END:VEVENT
END:VCALENDAR