BEGIN:VCALENDAR
VERSION:2.0
PRODID:-//The Charles Causley Trust - ECPv6.15.3//NONSGML v1.0//EN
CALSCALE:GREGORIAN
METHOD:PUBLISH
X-WR-CALNAME:The Charles Causley Trust
X-ORIGINAL-URL:https://causleytrust.org
X-WR-CALDESC:Events for The Charles Causley Trust
REFRESH-INTERVAL;VALUE=DURATION:PT1H
X-Robots-Tag:noindex
X-PUBLISHED-TTL:PT1H
BEGIN:VTIMEZONE
TZID:Europe/London
BEGIN:DAYLIGHT
TZOFFSETFROM:+0000
TZOFFSETTO:+0100
TZNAME:BST
DTSTART:20220327T010000
END:DAYLIGHT
BEGIN:STANDARD
TZOFFSETFROM:+0100
TZOFFSETTO:+0000
TZNAME:GMT
DTSTART:20221030T010000
END:STANDARD
END:VTIMEZONE
BEGIN:VEVENT
DTSTART;TZID=Europe/London:20220814T193000
DTEND;TZID=Europe/London:20220814T193000
DTSTAMP:20260425T170631
CREATED:20220321T123650Z
LAST-MODIFIED:20220503T122318Z
UID:4283-1660505400-1660505400@causleytrust.org
SUMMARY:North Cornwall Book Festival Author Tours: Seán Hewitt on All Down Darkness Wide
DESCRIPTION:Seán Hewitt was born in 1990. He lectures in English literature at Trinity College Dublin and is a Book Critic for The Irish Times. He won a Northern Writers’ Award in 2016\, the Resurgence Prize in 2017\, and an Eric Gregory Award in 2019. Tongues of Fire is his truly astonishing debut collection of poetry.  In a formal departure for him\, however thematically linked to the themes in his poems\,  All Down Darkness Wide is a prose memoir. When Seán meets Elias\, the two fall headlong into a love story\, but as Elias struggles with severe depression\, the couple comes face-to-face with crisis. Wrestling with this\, Seán Hewitt delves deep into his own history\, enlisting the ghosts of queer figures and poets before him. From a nineteenth-century cemetery in Liverpool to the pine forests of Gothenburg\, he plumbs the darkness in search of solace and hope. All Down Darkness Wide is an unflinching meditation on the burden of living in a world that too often sets happiness and queer life at odds\, and a tender portrayal of what it’s like to be caught in the undertow of a loved one’s suffering. By turns devastating and soaring\, it is a mesmerising story of heartache and renewal\, and a work of rare and transcendent beauty. Seán will be in conversation with author Sophie Pierce. \nThis event will take place at The Eagle House Hotel in Launceston and tickets will cost £8. Accompanied under 16s free.
URL:https://causleytrust.org/event/north-cornwall-book-festival-author-tours-sean-hewitt-on-all-down-darkness-wide/
LOCATION:The Eagle House Hotel\, The Eagle House Hotel\, Launceston\, PL15 8BA
ATTACH;FMTTYPE=image/jpeg:https://causleytrust.org/wp-content/uploads/2022/03/Seán-Hewitt.jpg
END:VEVENT
BEGIN:VEVENT
DTSTART;TZID=Europe/London:20220520T193000
DTEND;TZID=Europe/London:20220520T193000
DTSTAMP:20260425T170631
CREATED:20220321T122958Z
LAST-MODIFIED:20220425T143345Z
UID:4280-1653075000-1653075000@causleytrust.org
SUMMARY:North Cornwall Book Festival Author Tours: Rachel Joyce on Miss Benson’s Beetle
DESCRIPTION:Rachel Joyce swept to household name status with the runaway success of her debut novel The Unlikely Pilgrimage of Harold Fry and its sister novel\, The Love Song of Queenie Hennessy.  Her latest\, Miss Benson’s Beetle\, transported thousands during the early months of lockdown with the tropical voyage of its unlikely heroine\, an unregarded schoolmistress\, as she reconnects with her childhood passion for entomology. It won Rachel the Wilbur Smith Prize for Adventure Writing and secured her reputation for being able to raise laughter and tears in a single paragraph. She’ll be in conversation with novelist and memoirist Cathy Rentzenbrink and has promised to give us a sneak preview of the third instalment of her Harold novels\, in which she finally gives the side of his misunderstood wife\, Maureen. \nThis event will take place at The Eagle House Hotel in Launceston and tickets will cost £8. Accompanied under 16s free. \n  \nImage: Pal Hansen
URL:https://causleytrust.org/event/north-cornwall-book-festival-author-tours-rachel-joyce-on-miss-bensons-beetle/
LOCATION:The Eagle House Hotel\, The Eagle House Hotel\, Launceston\, PL15 8BA
ATTACH;FMTTYPE=image/jpeg:https://causleytrust.org/wp-content/uploads/2022/03/Rachel_Joyce-@-Pal-Hansen-772x1030-1.jpeg
END:VEVENT
END:VCALENDAR