BEGIN:VCALENDAR
VERSION:2.0
PRODID:-//The Charles Causley Trust - ECPv6.15.3//NONSGML v1.0//EN
CALSCALE:GREGORIAN
METHOD:PUBLISH
X-ORIGINAL-URL:https://causleytrust.org
X-WR-CALDESC:Events for The Charles Causley Trust
REFRESH-INTERVAL;VALUE=DURATION:PT1H
X-Robots-Tag:noindex
X-PUBLISHED-TTL:PT1H
BEGIN:VTIMEZONE
TZID:Europe/London
BEGIN:DAYLIGHT
TZOFFSETFROM:+0000
TZOFFSETTO:+0100
TZNAME:BST
DTSTART:20230326T010000
END:DAYLIGHT
BEGIN:STANDARD
TZOFFSETFROM:+0100
TZOFFSETTO:+0000
TZNAME:GMT
DTSTART:20231029T010000
END:STANDARD
END:VTIMEZONE
BEGIN:VEVENT
DTSTART;TZID=Europe/London:20230630T100000
DTEND;TZID=Europe/London:20230702T170000
DTSTAMP:20260421T053101
CREATED:20220510T083624Z
LAST-MODIFIED:20230510T135717Z
UID:4805-1688119200-1688317200@causleytrust.org
SUMMARY:2023 Commemorative Festival Weekend
DESCRIPTION:We are thrilled to announce the 2023 Causley Trust Commemorative Weekend\, which will take place from the 30 June – 2nd July. Join us for an evening dedicated to Charles Causley and his legacy\, creative pop up spaces with writers\, artists and creatives\, workshops and more …\n*Please note\, this programme is subject to funding and may condense or expand \nWe will be hosting a variety of free\, community activity in Launceston town centre venues\, in addition to ticketed workshops and walks. For more information\, click here.
URL:https://causleytrust.org/event/2023-causley-festival-of-arts-and-literature/
ATTACH;FMTTYPE=image/png:https://causleytrust.org/wp-content/uploads/2023/04/Death-anniversary-Twitter-Post-3.png
END:VEVENT
END:VCALENDAR